BEGIN:VCALENDAR
VERSION:2.0
PRODID:-//eventon.com NONSGML v1.0//EN
CALSCALE:GREGORIAN
METHOD:PUBLISH
BEGIN:VEVENT
UID:69e73be610b60
DTSTAMP:20260421T085710Z
DTSTART:20250807T083000Z
DTEND:20250807T093000Z
LOCATION:Golf-Club Schloss Miel
SUMMARY:Halt Dich fit - der besondere Bewegungskurs fÃ¼r KÃ¶rper\,  Geist und Seele
DESCRIPTION:RegulÃ¤rer Kurs31.07. &#8211; 11.09.2025donnerstags von 10:30 &
 #8211; 11:30 Uhr7 x 60 Minuten 112\, 00 â‚¬ Besonders ist natÃ¼rlich die Ko
 mbination eines Kurses als In- und Outdoorkurs!Ein Kurs in dieser Kombinati
 on ist eine groÃŸe Chance\, â€¦ um Outdoor\, bei gutem Wetter die Lungen â€
 “ deine Lungen &#8211; mit viel Sauerstoff und den KÃ¶rper mit[..]\nhttps:/
 /www.schlossmiel.de/veranstaltungen/halt-dich-fit-der-besondere-bewegungsku
 rs-fuer-koerper-geist-und-seele/var/ri-1.l-L1
URL:https://www.schlossmiel.de/veranstaltungen/halt-dich-fit-der-besondere-bewegungskurs-fuer-koerper-geist-und-seele/var/ri-1.l-L1
END:VEVENT
END:VCALENDAR