BEGIN:VCALENDAR
VERSION:2.0
PRODID:-//eventon.com NONSGML v1.0//EN
CALSCALE:GREGORIAN
METHOD:PUBLISH
BEGIN:VEVENT
UID:69e73967af5ff
DTSTAMP:20260421T084631Z
DTSTART:20260806T083000Z
DTEND:20260806T093000Z
LOCATION:Golf-Club Schloss Miel
SUMMARY:Rücken Balance Kurs
DESCRIPTION:donnerstags von 10:30 -11:30 Uhr10 x 60 Minuten\,  160\, 00 €
 Sommerkurs 18.06.-27.08.2026 Ein gesunder Rücken braucht eine natürliche 
 gerade Haltung &#8211; soweit die Theorie!Wie geht es dir und deinem Rücke
 n?Sind deine Haltung und dein Rückengefühl in Balance?Oder fühlst du dic
 h eher verspannt?Hast du hin und wieder Kopfschmerzen?Neigst du zu einer sc
 hlechten[..]\nhttps://www.schlossmiel.de/veranstaltungen/ruecken-balance-ku
 rs-19/
URL:https://www.schlossmiel.de/veranstaltungen/ruecken-balance-kurs-19/
END:VEVENT
END:VCALENDAR