BEGIN:VCALENDAR
VERSION:2.0
PRODID:-//eventon.com NONSGML v1.0//EN
CALSCALE:GREGORIAN
METHOD:PUBLISH
BEGIN:VEVENT
UID:69e73c141c0a8
DTSTAMP:20260421T085756Z
DTSTART:20260711T073000Z
DTEND:20260711T143000Z
LOCATION:Golf-Club Schloss Miel
SUMMARY:Der weibliche Rücken - Wochenend Workshop
DESCRIPTION:LWS/ISG Deine innere und äußere HaltungSamstag\,  11.07.20269
 :30 -16:30 Uhr VagusNerv Hals- und BrustwirbelSonntag\,  12.07.20269:30 &#8
 211; 16:30 Uhr Die Tage sind einzeln aber auch als Wochenend-Workshop buchb
 ar. inkl. Mittagessen/Getränke/Snacks€ 269\, 00 pro Tag/Person€ 498\, 
 00 pro Person bei Buchung beider Tage 1. Tag Samstag: LWS / ISG &#8211; Dei
 ne innere und äußere HaltungErfahre[..]\nhttps://www.schlossmiel.de/veran
 staltungen/der-weibliche-ruecken-wochenend-workshop/
URL:https://www.schlossmiel.de/veranstaltungen/der-weibliche-ruecken-wochenend-workshop/
END:VEVENT
END:VCALENDAR